BEGIN:VCALENDAR
VERSION:2.0
PRODID:-//Peter Pan Centre - ECPv6.15.20//NONSGML v1.0//EN
CALSCALE:GREGORIAN
METHOD:PUBLISH
X-WR-CALNAME:Peter Pan Centre
X-ORIGINAL-URL:https://thepeterpancentre.co.uk
X-WR-CALDESC:Events for Peter Pan Centre
REFRESH-INTERVAL;VALUE=DURATION:PT1H
X-Robots-Tag:noindex
X-PUBLISHED-TTL:PT1H
BEGIN:VTIMEZONE
TZID:UTC
BEGIN:STANDARD
TZOFFSETFROM:+0000
TZOFFSETTO:+0000
TZNAME:UTC
DTSTART:20190101T000000
END:STANDARD
END:VTIMEZONE
BEGIN:VEVENT
DTSTART;TZID=UTC:20201207T203000
DTEND;TZID=UTC:20201207T220000
DTSTAMP:20260420T133311
CREATED:20191104T091855Z
LAST-MODIFIED:20201113T113333Z
UID:543-1607373000-1607378400@thepeterpancentre.co.uk
SUMMARY:Christmas Quiz Night
DESCRIPTION:Quizmaster Chris will be hosting his Monday night virtual quiz in aid of the Peter Pan Centre. Chris is celebrating 20 years as a quiz host and during 2020 entertained hundreds of people from around the world online with his ‘just for fun’ lockdown quiz. \nThe quiz is really easy to take part in and Chris is a brilliantly entertaining host\, with up to 190 teams taking part each week. \nSo pit your wits against other teams in our funny and festive quiz and you may even win as prize if you are one of the top 3 teams\, all in return for a donation to the Peter Pan Centre. \nTo join in the festive fun please email fundraising to be added to our guest list and we will email you a youtube link and a donation link so you can join the quiz on the evening. It really is a simple as that. \nHope to see you there. Happy quizzing!
URL:https://thepeterpancentre.co.uk/event/christmasquiznight/
LOCATION:Virtual/ Online
CATEGORIES:Workshop
END:VEVENT
END:VCALENDAR