BEGIN:VCALENDAR
VERSION:2.0
PRODID:-//Peter Pan Centre - ECPv6.15.20//NONSGML v1.0//EN
CALSCALE:GREGORIAN
METHOD:PUBLISH
X-WR-CALNAME:Peter Pan Centre
X-ORIGINAL-URL:https://thepeterpancentre.co.uk
X-WR-CALDESC:Events for Peter Pan Centre
REFRESH-INTERVAL;VALUE=DURATION:PT1H
X-Robots-Tag:noindex
X-PUBLISHED-TTL:PT1H
BEGIN:VTIMEZONE
TZID:UTC
BEGIN:STANDARD
TZOFFSETFROM:+0000
TZOFFSETTO:+0000
TZNAME:UTC
DTSTART:20200101T000000
END:STANDARD
END:VTIMEZONE
BEGIN:VEVENT
DTSTART;TZID=UTC:20240628T090000
DTEND;TZID=UTC:20240628T230000
DTSTAMP:20260423T212155
CREATED:20230919T114536Z
LAST-MODIFIED:20240304T101107Z
UID:9562-1719565200-1719615600@thepeterpancentre.co.uk
SUMMARY:11th Annual Charity Golf Day
DESCRIPTION:Our 11th Annual Charity Golf Day will be held on Friday 28th June 2024 at Hawkstone Park\, Shrewsbury. \n*WE HAVE NOW SOLD OUT!* \nThere are still sponsorship opportunities however\, and we are seeking donations for our raffle and auction\, so if you are able to support us in that way and gain exposure to a large number of businesses then please get in touch by emailing fundraising@thepeterpancentre.co.uk. \n____________________________________________________________________________________________ \nThe day includes: \n\n  Breakfast in the Golf Bar\n  18 holes with a shotgun start on the Hawkstone Course and competitions\n  BBQ in the 1792 Bar & Grill\n  Prize giving in the Waterloo Suite\n An informal evening of drinks\, games and an auction in the Waterloo Suite.\n\nAccommodation will be available to book directly with Hawkstone Park. \nIf you cant make the day but wish to support the charity\, sponsorship opportunities are available. \nTo request a team booking or sponsorship form or more details including team costs\, please email fundraising@thepeterpancentre.co.uk \nTeam places are confirmed once your booking form and deposit has been returned.
URL:https://thepeterpancentre.co.uk/event/11th-annual-charity-golf-day/
LOCATION:Hawkstone Park\, Weston -Under-Redcastle\, Shrewsbury\, SY4 5UY\, United Kingdom
CATEGORIES:fundraiser
ATTACH;FMTTYPE=image/png:https://thepeterpancentre.co.uk/wp-content/uploads/2023/09/Golf-day-2024-SOLD-OUT.png
END:VEVENT
BEGIN:VEVENT
DTSTART;VALUE=DATE:20240214
DTEND;VALUE=DATE:20240215
DTSTAMP:20260423T212155
CREATED:20230919T123144Z
LAST-MODIFIED:20230919T124206Z
UID:9570-1707868800-1707955199@thepeterpancentre.co.uk
SUMMARY:Wear purple for Peter Pan
DESCRIPTION:Love your local charity on Valentine’s Day! \nOur ‘Wear it Purple’ day is really simple! In return for a cash donation of your choice\, we’d suggest a minimum of £1 per person\, everyone just pops on something purple\, whether it be a purple pair of socks or a t-shirt\, dress head-to-toe in purple or even fancy dress\, the choice is yours. \nDo you know a business\, education setting\, community group or group of friends that would like to get involved? \nGetting involved is really easy. To ‘Wear it Purple’ for Peter Pan on Valentine’s Day\, all you need to do is contact Jo by emailing fundraising@thepeterpancentre.co.uk for a poster. When you have received it add your chosen donation amount into the purple heart and encourage everyone to get involved and give local children with special educational needs the best start in life.
URL:https://thepeterpancentre.co.uk/event/wear-purple-for-peter-pan/
CATEGORIES:fundraiser
ATTACH;FMTTYPE=image/png:https://thepeterpancentre.co.uk/wp-content/uploads/2023/09/website-1.png
END:VEVENT
BEGIN:VEVENT
DTSTART;VALUE=DATE:20231206
DTEND;VALUE=DATE:20231207
DTSTAMP:20260423T212155
CREATED:20230213T134526Z
LAST-MODIFIED:20230621T104713Z
UID:9332-1701820800-1701907199@thepeterpancentre.co.uk
SUMMARY:Christmas Jumper Day
DESCRIPTION:Pop on your festive favourite and donate today\, as you really can make kids lives better with a festive sweater! Please tell all your friends\, family and work colleagues to join in the festive fundraiser\, the more the merrier! \nFor ways to pay your donations to the Peter Pan Centre please email fundraising or call 01782 715219 \n 
URL:https://thepeterpancentre.co.uk/event/christmas-jumper-day/
CATEGORIES:fundraiser
ATTACH;FMTTYPE=image/png:https://thepeterpancentre.co.uk/wp-content/uploads/2023/02/Christmas-Fair-2023-3.png
END:VEVENT
BEGIN:VEVENT
DTSTART;TZID=UTC:20231120T080000
DTEND;TZID=UTC:20231213T120000
DTSTAMP:20260423T212155
CREATED:20230213T135053Z
LAST-MODIFIED:20230213T135053Z
UID:9336-1700467200-1702468800@thepeterpancentre.co.uk
SUMMARY:Christmas Raffle
DESCRIPTION:Fabulous prizes will be up for grabs with all funds raised giving local children with special educational needs the best start in life. \nMore information to follow.
URL:https://thepeterpancentre.co.uk/event/christmas-raffle-2/
CATEGORIES:fundraiser
ATTACH;FMTTYPE=image/png:https://thepeterpancentre.co.uk/wp-content/uploads/2023/02/Christmas-Fair-2023-2.png
END:VEVENT
BEGIN:VEVENT
DTSTART;TZID=UTC:20230630T090000
DTEND;TZID=UTC:20230630T230000
DTSTAMP:20260423T212155
CREATED:20230104T160444Z
LAST-MODIFIED:20230104T160543Z
UID:9284-1688115600-1688166000@thepeterpancentre.co.uk
SUMMARY:10th Annual Charity Golf Day
DESCRIPTION:Our 10th Annual Charity Golf Day will be held on Friday 30th June 2023 at Hawkstone Park\, Shrewsbury. \nIt’s just £375 for a team of four\, which includes: \n9am:            Breakfast in the Golf Bar \n11am:          18 holes with a shotgun start on the Hawkstone Course and competitions \n4pm:            BBQ in the 1792 Bar & Grill \n6pm:            Prize giving in the Waterloo Suite \n6.30-til late: New for our 2023 Golf Day\, an informal evening of drinks\, games and an auction in the Waterloo Suite. \nAccommodation will be available to book directly with Hawkstone Park. \nIf you cant make the day put wish to support the charity\, sponsorship opportunities are available. \nTo request a team booking or sponsorship form or more details\, please email fundraising@thepeterpancentre.co.uk \nTeam places are confirmed once your booking form and deposit has been returned. \n  \n 
URL:https://thepeterpancentre.co.uk/event/10th-annual-charity-golf-day/
LOCATION:Hawkstone Park\, Weston -Under-Redcastle\, Shrewsbury\, SY4 5UY\, United Kingdom
CATEGORIES:fundraiser
ATTACH;FMTTYPE=image/png:https://thepeterpancentre.co.uk/wp-content/uploads/2023/01/Golf-website-photo.png
END:VEVENT
BEGIN:VEVENT
DTSTART;TZID=UTC:20230617T110000
DTEND;TZID=UTC:20230617T140000
DTSTAMP:20260423T212155
CREATED:20230123T144518Z
LAST-MODIFIED:20230511T144957Z
UID:9324-1686999600-1687010400@thepeterpancentre.co.uk
SUMMARY:Summer Fair
DESCRIPTION:You are all invited to join us at the Peter Pan Centre for some fun at our Summer Fair. \nThere will be lots to do\, including face painting\, summer games and stalls\, with special guests Alan Barratt Storyteller and Rapunzel on hand to entertain the children. \nThere will be a short ribbon-cutting ceremony at 11am for the grand opening of our new playground. The gates to our garden will open and our new playground will be revealed for children to explore and enjoy\, as part of our Summer Fair. \nWe look forward to seeing you all! \n 
URL:https://thepeterpancentre.co.uk/event/summer-fair/
LOCATION:The Peter Pan Centre\, Hoon Avenue\, Wolstanton\, ST5 9NY\, United Kingdom
CATEGORIES:fundraiser,Outdoor
ATTACH;FMTTYPE=image/png:https://thepeterpancentre.co.uk/wp-content/uploads/2023/01/Summer-fair-.png
END:VEVENT
BEGIN:VEVENT
DTSTART;VALUE=DATE:20230611
DTEND;VALUE=DATE:20230612
DTSTAMP:20260423T212155
CREATED:20230223T144305Z
LAST-MODIFIED:20230223T144305Z
UID:9362-1686441600-1686527999@thepeterpancentre.co.uk
SUMMARY:Take part in this year’s Potters ‘Arf for free with the Peter Pan Centre
DESCRIPTION:We have places available for this year’s Potters ‘Arf. This means you can sign up for free. All you need to do is tell us how much you will raise for the Peter Pan Centre to help us to continue our life-changing care and education for children with special needs and the support their families deserve. \nThe iconic half marathon returns on Sunday 11 June 2023\, with five different options for people of all abilities to take part\, so it’s a great time to fundraise for the Peter Pan Centre. Please see the Cite of Stoke on Trent website for more race details www.potters-arf.co.uk \n  \nOnce we have confirmed your place\, we will give you the discount code to sign up to take part in the Potters ‘Arf for free for the Peter Pan Centre. \nAnybody who signs up to run will receive a Peter Pan Centre running top and advice on fundraising and promotion from the Peter Pan fundraising team. \nIf you would like to take part for the Peter Pan Centre\, the fundraising team would love to hear from you. Please contact Jo by calling 01782 715219 or email fundrasing@thepeterpancentre.co.uk  for more details.
URL:https://thepeterpancentre.co.uk/event/take-part-in-this-years-potters-arf-for-free-with-the-peter-pan-centre/
CATEGORIES:fundraiser
ATTACH;FMTTYPE=image/png:https://thepeterpancentre.co.uk/wp-content/uploads/2023/02/Copy-of-wear-it-purple-1.png
END:VEVENT
BEGIN:VEVENT
DTSTART;VALUE=DATE:20230403
DTEND;VALUE=DATE:20230404
DTSTAMP:20260423T212155
CREATED:20230123T140213Z
LAST-MODIFIED:20230123T140213Z
UID:9319-1680480000-1680566399@thepeterpancentre.co.uk
SUMMARY:Easter Raffle
DESCRIPTION:Chocolate prizes of all shapes and sizes are up for grabs in our Easter raffle! \nAt just £1 a ticket\, it’s so easy to play. \nAll proceeds help us to give children with special needs the best start in life. \nFor tickets\, please email Jo at fundraising@thepeterpancentre.co.uk  \nThe draw will take place on Monday 3rd April.  \nGood Luck!
URL:https://thepeterpancentre.co.uk/event/easter-raffle/
CATEGORIES:fundraiser
ATTACH;FMTTYPE=image/png:https://thepeterpancentre.co.uk/wp-content/uploads/2023/01/Easter-raffle-poster-23-1.png
END:VEVENT
BEGIN:VEVENT
DTSTART;VALUE=DATE:20230214
DTEND;VALUE=DATE:20230215
DTSTAMP:20260423T212155
CREATED:20230111T140111Z
LAST-MODIFIED:20230111T143353Z
UID:9302-1676332800-1676419199@thepeterpancentre.co.uk
SUMMARY:Wear It Purple For Peter Pan
DESCRIPTION:Love your local charity this Valentine’s Day! \nOur ‘Wear it Purple’ day is really simple! In return for a cash donation of your choice\, we’d suggest a minimum of £1 per person\, everyone just pops on something purple\, whether it be a purple pair of socks or a t-shirt\, dress head-to-toe in purple or even fancy dress\, the choice is yours. \nDo you know a business\, education setting\, community group or group of friends that would like to get involved? \nGetting involved is really easy. To  ‘Wear it Purple’  for Peter Pan this Valentine’s Day\, all you need to do is contact Jo by emailing fundraising@thepeterpancentre.co.uk for a poster. When you have received it add your chosen donation amount into the purple heart and encourage everyone to get involved and give local children with special educational needs the best start in life. \n 
URL:https://thepeterpancentre.co.uk/event/wear-it-purple-for-peter-pan/
CATEGORIES:fundraiser
ATTACH;FMTTYPE=image/png:https://thepeterpancentre.co.uk/wp-content/uploads/2023/01/wear-it-purple.png
END:VEVENT
BEGIN:VEVENT
DTSTART;TZID=UTC:20221203T110000
DTEND;TZID=UTC:20221203T140000
DTSTAMP:20260423T212155
CREATED:20221104T151852Z
LAST-MODIFIED:20221104T151926Z
UID:9227-1670065200-1670076000@thepeterpancentre.co.uk
SUMMARY:Christmas Fayre & Father Christmas
DESCRIPTION:Our Christmas Fayre is back!\n\nJoin us at the Peter Pan Centre for lots of fun\, festive stalls and activities\, a selection of local makers market stalls\, tombola\, Christmas carols and of course Father Christmas in his Grotto.\n\nAdmission is free to the event\nEach activity charged separately\nUnfortunately\, we do not have the facility for card payments at the Centre.\n\nWe are looking forward to welcoming you to the Centre for our Festive Fundraiser.
URL:https://thepeterpancentre.co.uk/event/christmas-fayre-father-christmas/
LOCATION:The Peter Pan Centre\, Hoon Avenue\, Wolstanton\, ST5 9NY\, United Kingdom
CATEGORIES:fundraiser
ATTACH;FMTTYPE=image/png:https://thepeterpancentre.co.uk/wp-content/uploads/2022/11/Christmas-22-Facebook-Event-Cover-1.png
END:VEVENT
BEGIN:VEVENT
DTSTART;TZID=UTC:20221124T080000
DTEND;TZID=UTC:20221214T120000
DTSTAMP:20260423T212155
CREATED:20221124T142750Z
LAST-MODIFIED:20221201T150456Z
UID:9251-1669276800-1671019200@thepeterpancentre.co.uk
SUMMARY:Christmas Raffle
DESCRIPTION:We have some fabulous prizes up for grabs this year\, including: \nA photo session with 5 digital images worth £275\, kindly donated by Once Upon A Time Photography \nA family ticket to The Pantomime Adventures of Peter Pan at the Regent Theatre \nWine and chocolate hamper \nA painting by local artist Born Stokie \nChampagne and chocolates \n and lots more \nTickets are just £1 each and come in a book of five. For tickets\, please email fundraising@thepeterpancentre.co.uk or call 01782 715219. Tickets will also be available to buy at our Christmas Fayre on December 3rd. \nThe draw will take place on Wednesday 14th December 2022 and winners will be contacted directly. \nGood luck!
URL:https://thepeterpancentre.co.uk/event/christmas-raffle/
CATEGORIES:fundraiser
ATTACH;FMTTYPE=image/png:https://thepeterpancentre.co.uk/wp-content/uploads/2022/11/raffle-tickets-Facebook-Post-1.png
END:VEVENT
BEGIN:VEVENT
DTSTART;TZID=UTC:20221117T190000
DTEND;TZID=UTC:20221117T230000
DTSTAMP:20260423T212155
CREATED:20220908T135046Z
LAST-MODIFIED:20220921T144229Z
UID:9010-1668711600-1668726000@thepeterpancentre.co.uk
SUMMARY:Charity Comedy Night
DESCRIPTION:Join us at ROFL Newcastle under Lyme\,  Staffordshire and Cheshire’s only dedicated comedy venue for an evening of laughter and entertainment. \n\nTickets £10 per person\nFull bar and food available\nOver 18’s only\nDoors open at 7pm\, last entry is at 7.40pm\n\nBooking is essential and payment will secure your ticket. Please contact Jo by emailing fundraising@thepeterpancentre.co.uk or call 01782 715219  \nAll funds raised from tickets sales will help support children with special needs and their families. \n 
URL:https://thepeterpancentre.co.uk/event/charity-comedy-night-2/
LOCATION:ROFL Comedy Club\, Lymelight Boulevard\, Newcastle under Lyme\, ST5 1PT\, United Kingdom
CATEGORIES:fundraiser
ATTACH;FMTTYPE=image/png:https://thepeterpancentre.co.uk/wp-content/uploads/2022/09/comedy-night-Facebook-Event-Cover.png
END:VEVENT
BEGIN:VEVENT
DTSTART;TZID=UTC:20221030T130000
DTEND;TZID=UTC:20221030T150000
DTSTAMP:20260423T212155
CREATED:20220801T195450Z
LAST-MODIFIED:20220912T101803Z
UID:8939-1667134800-1667142000@thepeterpancentre.co.uk
SUMMARY:Happyface HALLOWEEN PARTY Spooktacular Family Rave - Keele Uni
DESCRIPTION: FROM THE CRADLE… TO THE RAVE!! \nBOO!!  Happyface Family Rave are excited and THRILLED to be back with their SPOOKTACULAR HALLOWEEN PARTY FAMILY RAVE at Keele Uni on Sunday 30th October!! \nHALLOWEEN  FANCY DRESS is encouraged\, so dress up to get down with the kids and shake those bones on a dance floor filled with giant balloons\, bubbles and confetti!\nClub DJs from Devotion providing the FANG-TASTIC soundtrack to what will be a MONSTER MASHUP! \nCome join us and TREAT the family on the LAST DAY of OCTOBER HALF TERM for a Spooktacular Halloween Party Special!! This is a party not to be missed and we can’t wait to see you all again! \nADVANCED DISCOUNT TICKETS AVAILABLE NOW WITH NO BOOKING FEE!! \nMORE DETAILS TO BE ANNOUNCED BUT WILL INCLUDE:\n FAMILY FRIENDLY INDOOR FESTIVAL\n FANCY DRESS PARTY\n Character appearance from NS STORMTROOPERS\n NIGHTCLUB EXPERIENCE with club DJs\, music and lighting\n Face painting\, craft area and soft play\n Sensory fun including confetti\, bubbles\, giant balloons and neon glow apparel\n Sweets & treats and refreshments\n Supporting sponsored charity The Peter Pan Centre\nTICKETS AVAILABLE \nhttp://www.familyrave.co.uk\nHappyface Halloween Party \nSunday 30th October 2022 1-3PM\nKeele Uni\, Staffordshire ST5 5BJ
URL:https://thepeterpancentre.co.uk/event/happyface-halloween-party-spooktacular-family-rave-keele-uni/
CATEGORIES:Children,fundraiser
END:VEVENT
BEGIN:VEVENT
DTSTART;TZID=UTC:20221029T193000
DTEND;TZID=UTC:20221029T233000
DTSTAMP:20260423T212155
CREATED:20220912T101628Z
LAST-MODIFIED:20220912T101628Z
UID:9149-1667071800-1667086200@thepeterpancentre.co.uk
SUMMARY:Marky's Charity Night
DESCRIPTION:Enjoy an evening of entertainment at Marky’s Charity night\, a singing competition with a £100  grand prize for the winner! \nYour hosts for the evening will be  Mike Steel and Marky Maidment\, who will be joined by guest judges\, Richard Winterton\, Fay Rutter\, John Miller and Mark Hilton. \nThe evening will include: \n\nA buffet\nRaffle and Auction\nGuest Act – Drag Queen\, Sapphire\nTickets are £10 per person\n\nFor more information\, tickets or to enter the competition please call Marky on 07305 110766 \n\nThe event is kindly sponsored by Just Finns of Stoke on Trent.\n\n 
URL:https://thepeterpancentre.co.uk/event/markys-charity-night/
LOCATION:The Jubilee Bar at the Queensbury Hub\, 175 Newcastle Road\, Trent Vale\, ST4 6PZ\, United Kingdom
CATEGORIES:fundraiser
ATTACH;FMTTYPE=image/png:https://thepeterpancentre.co.uk/wp-content/uploads/2022/09/Untitled-design-20.png
END:VEVENT
BEGIN:VEVENT
DTSTART;TZID=UTC:20220629T093000
DTEND;TZID=UTC:20220629T180000
DTSTAMP:20260423T212155
CREATED:20220105T145824Z
LAST-MODIFIED:20220318T142148Z
UID:8223-1656495000-1656525600@thepeterpancentre.co.uk
SUMMARY:Annual Charity Golf Day 2022
DESCRIPTION:It’s Tee time! \nJoin us for our Annual Charity Golf Day 2022 at Hawkstone Park\, Shrewsbury on Wednesday 29th June. \nThroughout the day your team will be playing on the stunning Hawkstone Park 18 hole golf course and enjoying breakfast\, an afternoon BBQ and awards presentation. \nTeams cost £350 per team of four and a completed entry form and £40 team deposit will secure your teams place. \nThe day begins at 9.30am with a breakfast of hot drinks and bacon rolls\, followed by 18 holes with a shotgun start\, a delicious afternoon BBQ\, then an Award’s Presentation. Prizes will be awarded to the top three teams\, longest drive\, yellow ball competition\, nearest the pin\, best player\, best dressed golfer\, best-dressed team shortly after the BBQ. The event should close at around 6pm. \nTo request an entry form please email fundraising@thepeterpancentre.co.uk or call 01782 715219. \nN.B Gentlemen’s Handicap limit: 28. Ladies Handicap Limit: 36. ¾ Handicap – Best 2 scores. No refunds after 20th May although substitutes still accepted.
URL:https://thepeterpancentre.co.uk/event/annual-charity-golf-day-2022/
LOCATION:Hawkstone Park\, Shrewsbury\, SY4 5UY\, United Kingdom
CATEGORIES:fundraiser,Outdoor
ATTACH;FMTTYPE=image/png:https://thepeterpancentre.co.uk/wp-content/uploads/2022/01/Golf-day-poster-Facebook-Event-Cover-1.png
END:VEVENT
BEGIN:VEVENT
DTSTART;TZID=UTC:20211213T200000
DTEND;TZID=UTC:20211213T213000
DTSTAMP:20260423T212155
CREATED:20211119T132647Z
LAST-MODIFIED:20211213T104658Z
UID:8079-1639425600-1639431000@thepeterpancentre.co.uk
SUMMARY:Virtual Christmas Quiz 2021
DESCRIPTION:Quizmaster Chris will once again be entertaining us with his festive virtual quiz in aid of the Peter Pan Centre on Monday 13th December at 8pm. \nChris has over 20 year’s experience and entertained hundreds of teams from all around the world with his ‘just for fun’ lockdown quiz. \nIt’s easy to take part. We will share the links that you need to play along \nTo play along the link to the YouTube stream which starts at 8pm Monday 13th Dec is –\nhttps://youtu.be/MGibw1xnJMY\nTo answer the questions and take part go to –\nhttps://play.ecke.uk\nThere is no entry charge but donations to the Peter Pan Centre can be made via JustGiving https://www.justgiving.com/campaign/virtualchristmasquiz2021 \nHope to see you there. Happy quizzing! \n 
URL:https://thepeterpancentre.co.uk/event/virtual-christmas-quiz-2021/
CATEGORIES:fundraiser
END:VEVENT
BEGIN:VEVENT
DTSTART;VALUE=DATE:20211210
DTEND;VALUE=DATE:20211211
DTSTAMP:20260423T212155
CREATED:20211119T134614Z
LAST-MODIFIED:20211119T134614Z
UID:8090-1639094400-1639180799@thepeterpancentre.co.uk
SUMMARY:Christmas Jumper Day 2021
DESCRIPTION:Make kids lives better with a festive sweater! \nJoin us on Friday 10th December\, wear your festive favourite\, and donate £2 to our amazing cause. You can get your family\, friends and work colleagues to join in too! \nDonations can be made in the following ways: \n\nThrough our JustGiving page  www.justgiving.com/thepeterpancentre\nYou can drop cash or cheques at the Centre during opening hours\nVia bank transfer. Please ask us for our bank details\n\n  \nMerry Christmas! \n  \n 
URL:https://thepeterpancentre.co.uk/event/christmas-jumper-day-2021/
CATEGORIES:fundraiser
ATTACH;FMTTYPE=image/png:https://thepeterpancentre.co.uk/wp-content/uploads/2021/11/Copy-of-Christmas-2021-5.png
END:VEVENT
BEGIN:VEVENT
DTSTART;TZID=UTC:20210910T190000
DTEND;TZID=UTC:20210910T233000
DTSTAMP:20260423T212155
CREATED:20210517T130135Z
LAST-MODIFIED:20210517T130552Z
UID:7865-1631300400-1631316600@thepeterpancentre.co.uk
SUMMARY:Charity Comedy Night
DESCRIPTION:Join host Darren Mortiboy\, and amazing comedians\, Andy White\, The boys from the all night chemist and Kevin Daniel  for an incredible night of comedy to raise vital funds for the Peter Pan Centre \nDoors at 7pm with show starts at 8pm. \nPlease note all family/friends will be sat at their own table to maintain a safe bubble/social distancing\, so please when booking please try to book in the same names/all together to ensure you are sat together. Contact us if you are unable to attend. \nWE CAN CAN ONLY SIT A MAXIMUM OF 6 PER TABLE (this may change as restrictions are lowered) \nTo purchase tickets please go to the ticket source website below. \nTickets are non refundable unless event is cancelled.
URL:https://thepeterpancentre.co.uk/event/charity-comedy-night/
CATEGORIES:fundraiser
ATTACH;FMTTYPE=image/jpeg:https://thepeterpancentre.co.uk/wp-content/uploads/2021/05/charity.jpg
END:VEVENT
BEGIN:VEVENT
DTSTART;VALUE=DATE:20210501
DTEND;VALUE=DATE:20210601
DTSTAMP:20260423T212155
CREATED:20210414T115853Z
LAST-MODIFIED:20210414T115853Z
UID:7824-1619827200-1622505599@thepeterpancentre.co.uk
SUMMARY:5k May
DESCRIPTION:We are asking our supporters to complete 5K in whatever way you can – whether it’s run\, roll\, walk\, cycle\, swim\, skate or even skip. \nIt doesn’t have to be completed in one go\, you can spread it over the entire month of May if you like  – then donate a minimum of £5 to us here at the Peter Pan Centre via the Just Giving link\, and then finally nominate five friends to carry on the awesome fundraising trend! \nPlease share your 5k adventures on social media\, and don’t forget to tag us in! \n 
URL:https://thepeterpancentre.co.uk/event/5k-may/
CATEGORIES:Beginners,challenge,Children,fundraiser,Outdoor
END:VEVENT
END:VCALENDAR